BEGIN:VCALENDAR
VERSION:2.0
PRODID:-//RELATE
CALSCALE:GREGORIAN
METHOD:PUBLISH
X-WR-CALNAME:RELATE
X-ORIGINAL-URL:https://relate.com.my/product/eft-for-trauma/
X-WR-CALDESC:EFT for Trauma: Working Safely with Emotional Pain
BEGIN:VEVENT
DTSTART;TZID=Asia/Shanghai:20260605T090000
DTEND;TZID=Asia/Shanghai:20260606T170000
SUMMARY:EFT for Trauma: Working Safely with Emotional Pain
DESCRIPTION:
URL:https://relate.com.my/product/eft-for-trauma/
LOCATION:BO1-A-9, Menara 2, 9th Floor KL Eco City, 3 Jalan Bangsar 59200 Kuala Lumpur
END:VEVENT
END:VCALENDAR
