BEGIN:VCALENDAR
VERSION:2.0
PRODID:-//RELATE
CALSCALE:GREGORIAN
METHOD:PUBLISH
X-WR-CALNAME:RELATE
X-ORIGINAL-URL:https://relate.com.my/product/a-practical-introduction-to-existential-therapy/
X-WR-CALDESC:A Practical Introduction to Existential Therapy
BEGIN:VEVENT
DTSTART;TZID=Asia/Shanghai:20260627T100000
DTEND;TZID=Asia/Shanghai:20260627T120000
SUMMARY:A Practical Introduction to Existential Therapy
DESCRIPTION:
URL:https://relate.com.my/product/a-practical-introduction-to-existential-therapy/
LOCATION:
END:VEVENT
END:VCALENDAR
